BEGIN:VCALENDAR
VERSION:2.0
PRODID:-//Pulse St. Pete Magazine - ECPv6.15.20//NONSGML v1.0//EN
CALSCALE:GREGORIAN
METHOD:PUBLISH
X-WR-CALNAME:Pulse St. Pete Magazine
X-ORIGINAL-URL:https://pulsestpete.com
X-WR-CALDESC:Events for Pulse St. Pete Magazine
REFRESH-INTERVAL;VALUE=DURATION:PT1H
X-Robots-Tag:noindex
X-PUBLISHED-TTL:PT1H
BEGIN:VTIMEZONE
TZID:America/New_York
BEGIN:DAYLIGHT
TZOFFSETFROM:-0500
TZOFFSETTO:-0400
TZNAME:EDT
DTSTART:20240310T070000
END:DAYLIGHT
BEGIN:STANDARD
TZOFFSETFROM:-0400
TZOFFSETTO:-0500
TZNAME:EST
DTSTART:20241103T060000
END:STANDARD
BEGIN:DAYLIGHT
TZOFFSETFROM:-0500
TZOFFSETTO:-0400
TZNAME:EDT
DTSTART:20250309T070000
END:DAYLIGHT
BEGIN:STANDARD
TZOFFSETFROM:-0400
TZOFFSETTO:-0500
TZNAME:EST
DTSTART:20251102T060000
END:STANDARD
BEGIN:DAYLIGHT
TZOFFSETFROM:-0500
TZOFFSETTO:-0400
TZNAME:EDT
DTSTART:20260308T070000
END:DAYLIGHT
BEGIN:STANDARD
TZOFFSETFROM:-0400
TZOFFSETTO:-0500
TZNAME:EST
DTSTART:20261101T060000
END:STANDARD
END:VTIMEZONE
BEGIN:VEVENT
DTSTART;TZID=America/New_York:20250531T100000
DTEND;TZID=America/New_York:20250531T130000
DTSTAMP:20260422T000351
CREATED:20250529T185022Z
LAST-MODIFIED:20250529T185022Z
UID:2012-1748685600-1748696400@pulsestpete.com
SUMMARY:2025 Hurricane Preparedness Day
DESCRIPTION:Join the City of St. Petersburg and Pinellas County for a free event to help you and your family get ready for hurricane season! Event highlights will include:\n– A chance to win a free generator– Presentations by industry experts\, including Bay News 9 meteorologist Diane Kacmarik & National Weather Service meteorologist Ross Giarratana– Free hurricane kit supplies – Evacuation zone lookup – Special Needs Evacuation Program registration – Emergency shelter demonstration – Sandbag demonstration – 2025 Hurricane Guides – Free pet services (with purchase of a County license): Exams\, rabies shots and microchips – Opportunity to see emergency response vehicles up close – Free food and beverages provided by The Salvation Army– Kids playground and education zone with weather-related arts and crafts\, and free popcorn and snow cones\nEvent Details: Saturday\, May 31\, 10 a.m. to 1 p.m.\nWillis S. Johns Recreation Center at Fossil Park 6635 Dr. Martin L. King\, Jr. St. N. St. Petersburg\, FL 33702
URL:https://pulsestpete.com/event/2025-hurricane-preparedness-day/
LOCATION:Willis S. Johns rec center\, 6635 Dr Martin Luther King Jr St N\, St Petersburg\, FL\, 33702\, United States
ATTACH;FMTTYPE=image/jpeg:https://pulsestpete.com/wp-content/uploads/2025/05/489067454_1060365666117108_2886741787803044996_n.jpg
END:VEVENT
BEGIN:VEVENT
DTSTART;TZID=America/New_York:20250525T120000
DTEND;TZID=America/New_York:20250525T170000
DTSTAMP:20260422T000351
CREATED:20250430T210150Z
LAST-MODIFIED:20250430T210150Z
UID:1943-1748174400-1748192400@pulsestpete.com
SUMMARY:St. Pete Food Truck Festival
DESCRIPTION:3 Daughters Brewing is hosting its biggest food festival ever!\nDozens of St. Pete and Tampa Bay’s best food trucks will be taking over the entire property and dishing up incredible eats all day long. From giant burgers and loaded cheese fries to tantalizing desserts and hand-tossed pizzas\, there will be something for everybody.\nAnd of course\, there will be tons of great beers\, ciders\, seltzers\, wine\, sangria\, and NA beverages. We will also have live music from 1-5 pm.\nThe Food Truck Festival is free to attend and open to all ages. Must be 21+ to drink alcoholic beverages. Additional parking available for free in the grass lot behind the brewery.\nStay tuned for announcements and sneak peeks on participating food trucks!
URL:https://pulsestpete.com/event/st-pete-food-truck-festival/
LOCATION:3 Daughters Brewing\, 222 22nd St S\, Saint Petersburg\, FL\, 33712\, United States
ATTACH;FMTTYPE=image/jpeg:https://pulsestpete.com/wp-content/uploads/2025/04/490585081_1052366730271332_3121447594263406399_n.jpg
END:VEVENT
BEGIN:VEVENT
DTSTART;TZID=America/New_York:20250522T183000
DTEND;TZID=America/New_York:20250522T220000
DTSTAMP:20260422T000351
CREATED:20250508T222804Z
LAST-MODIFIED:20250508T222804Z
UID:1977-1747938600-1747951200@pulsestpete.com
SUMMARY:Whiskey and War Stories
DESCRIPTION:You’re invited to an unforgettable night of Bourbon\, Brotherhood & Culinary Craftsmanship. \nOn Thursday\, May 22nd\, join us for a live storytelling experience with Scott Neil\, Founder of Horse Soldier Bourbon. Hear the legendary journey that began behind the lines in Afghanistan—and taste the spirits that followed.\nThis exclusive evening features rare pours\, expertly paired courses by Executive Chef Kenny Tufo\, and a first-ever visual journey through Scott’s adventures—from battlefield to barrelhouse.\nFeatured Spirits:• Army 250th Anniversary Bourbon – Aged 10 years\, 100 proof.• Commander’s V – The Legion – Aged in French Oak port casks.• Derring-Do Silver Rum – Bright and daring.• Aged Rum in Calvados Barrels – A transatlantic story in a bottle.\nSeating is limited. Reserve your place at the table → https://www.opentable.com/…/the-urban-stillhouse-st…
URL:https://pulsestpete.com/event/whiskey-and-war-stories/
LOCATION:The Urban Stillhouse by Horse Soldier\, 2232 5th ave south\, St. Petersburg\, FL\, 33712\, United States
ATTACH;FMTTYPE=image/jpeg:https://pulsestpete.com/wp-content/uploads/2025/05/495459321_1256126066517235_2325521819717176680_n.jpg
END:VEVENT
BEGIN:VEVENT
DTSTART;TZID=America/New_York:20250517T110000
DTEND;TZID=America/New_York:20250517T150000
DTSTAMP:20260422T000351
CREATED:20250508T224634Z
LAST-MODIFIED:20250508T224634Z
UID:1998-1747479600-1747494000@pulsestpete.com
SUMMARY:Painting in the Park
DESCRIPTION:Celebrate the MFA’s 60th Anniversary at this year’s Painting in the Park!\nPainting in the Park is our annual FREE community celebration of all things art – and this year promises to be our biggest bash yet\, featuring 20 colorful\, creative\, messy\, and marvelous activities inspired by the artworks inside our museum. Activities are designed for toddlers\, teens\, and in-betweens\, and adults are welcome to join in on the fun\, too!\nParticipants will receive a Painting in the Park Discovery Passport to help guide them to each station and will earn a stamp for their passports as they complete each activity. Complete at least 10 activities to earn the prize of free Family Admission to the MFA!\nThe first 250 families to pre-register for the event will receive a complimentary MFA Tote Bag – perfect for carrying around your Painting in the Park creations!\nActivities at this year’s event will include:\nEn Plein Air Painting inspired by Claude Monet Pastel Portraits inspired by Derrick Adams A Paper Poppy Field inspired by Georgia O’Keeffe An archaeology dig inspired by the Antioch MosaicsGyotaku Prints inspired by Kimono: The Triumph of Japanese Dress And more!The fun continues with art-filled activities led by our friends at:\nClay Co-Op NOMADstudio Overspray Art Space Print St. Pete St. Pete Ceramics Tampa Bay Watch Discovery Center Tombolo BooksUSF CardSt. Anthony’s HospitalEnjoy live entertainment\, along with delicious food and treats from:\nSweet FixationLatin Lunch BoxThe Hyppo Gourmet Ice PopsRock Fire PizzaPainting in the Park will also include a Sensory Relief Zone hosted by our friends from USF’s Center for Autism and Related Disabilities.\nPainting in The Park 2025Saturday\, May 17\, 202511:00 AM–3:00 PMFREE for EVERYONE!\nRegister in advance to receive a special MFA Tote Bag!*
URL:https://pulsestpete.com/event/painting-in-the-park/
LOCATION:Museum of Fine Arts St. Petersburg\, 255 Beach Drive NE\, St. Petersburg\, 33701\, United States
ATTACH;FMTTYPE=image/jpeg:https://pulsestpete.com/wp-content/uploads/2025/05/493028078_1126325176203115_8981859747729616478_n.jpg
END:VEVENT
BEGIN:VEVENT
DTSTART;TZID=America/New_York:20250517T100000
DTEND;TZID=America/New_York:20250517T170000
DTSTAMP:20260422T000351
CREATED:20250323T192527Z
LAST-MODIFIED:20250323T195823Z
UID:1854-1747476000-1747501200@pulsestpete.com
SUMMARY:St.Pete Italian Fest
DESCRIPTION:St. Pete Italian Fest 2025 \n Date: Saturday\, May 17\, 2025 Time: 10:00AM – 5:00PM Location: Vinoy Park\, St. Petersburg\, FL\nJoin us for a day filled with Italian culture\, food\, and fun at the St. Pete Italian Fest! \n What to Expect: Authentic Italian food from local vendors Live music and performances by top Italian bands Stunning Italian car show featuring exotic and vintage vehicles Art exhibits showcasing Italian culture and heritage Wine tastings and craft cocktails Family-friendly activities and games\n Admission:Early Bird General Admission: $10 After April 1st- $15 At the Gate- $20Kids under 10 – Free (No Refunds)\nBring your family and friends and celebrate all things Italian in the beautiful Vinoy Park. Don’t miss this unforgettable day of delicious flavors\, vibrant music\, and cultural festivities!\n Follow this event page for updates on performers\, vendors\, and more!\nTickets available now!\nFor more info or vendor opportunities\, visit www.stpeteitalianfest.com\n\n“This event was designed to provide equal opportunity for enjoyment by all participants. If you would like to request a reasonable accommodation for accessibility assistancepursuant to disability laws\, please contact the event planner at (727-580-9328). If you are unable to connect with the event planner regarding reasonable accommodationsYou can contact the City of St Petersburg Community Affairs Division at (727) 893-7345 or (727)892-5259 TDD/TTY” . Please note that City staff will not have event or ticket information.\n Arrivederci! See you there!
URL:https://pulsestpete.com/event/st-pete-italian-fest/
LOCATION:Vinoy Park\, 701 Bayshore Dr NE\, St. Petersburg\, FL\, 33701
ATTACH;FMTTYPE=image/jpeg:https://pulsestpete.com/wp-content/uploads/2025/03/481767206_632006362808902_7478261288867928909_n.jpg
END:VEVENT
BEGIN:VEVENT
DTSTART;TZID=America/New_York:20250515T180000
DTEND;TZID=America/New_York:20250515T210000
DTSTAMP:20260422T000351
CREATED:20250430T195855Z
LAST-MODIFIED:20250430T195855Z
UID:1936-1747332000-1747342800@pulsestpete.com
SUMMARY:Uptown Night Market
DESCRIPTION:It’s gonna be MAY (insert curly hair Justin Timberlake photo here).Uptown Eats tasty treats Vintage Dealios but even more than usual$25 & $35 Permanent Jewelry is back by popular demand! ANY chain ANY style (even the experience ones!).More info to come Set it on your calendars
URL:https://pulsestpete.com/event/uptown-night-market/
LOCATION:Iamsonotcool Vintage\, 689 Dr MLK Jr St N\, Saint Petersburg\, FL\, 33701\, United States
ATTACH;FMTTYPE=image/png:https://pulsestpete.com/wp-content/uploads/2025/04/Screenshot-2025-04-30-at-3.57.56 PM.png
END:VEVENT
BEGIN:VEVENT
DTSTART;TZID=America/New_York:20250511T100000
DTEND;TZID=America/New_York:20250511T180000
DTSTAMP:20260422T000351
CREATED:20250424T015123Z
LAST-MODIFIED:20250424T015123Z
UID:1912-1746957600-1746986400@pulsestpete.com
SUMMARY:Dalí’s Birthday Celebration
DESCRIPTION:Celebrate Salvador Dalí’s birthday with us on Sun\, May 11\, 2025. In honor of his birth year (1904)\, guests will enjoy 40% off gallery admission for just $19.04\, along with various on-site happenings.
URL:https://pulsestpete.com/event/dalis-birthday-celebration/
LOCATION:The Dalí Museum\, One Dali Blvd\, Saint Petersburg\, FL\, 33701\, United States
ATTACH;FMTTYPE=image/jpeg:https://pulsestpete.com/wp-content/uploads/2025/04/492147720_962875786036797_3906346396246287721_n.jpg
END:VEVENT
BEGIN:VEVENT
DTSTART;TZID=America/New_York:20250509T193000
DTEND;TZID=America/New_York:20250509T223000
DTSTAMP:20260422T000351
CREATED:20250504T213724Z
LAST-MODIFIED:20250504T213724Z
UID:1949-1746819000-1746829800@pulsestpete.com
SUMMARY:Final Sidewalk Astronomy Night in Downtown St. Pete
DESCRIPTION:Alex Martin will host the final night of free public stargazing in downtown St. Pete\, Florida\, with views of the rising Moon coming up over Tampa Bay.\nAt 8:15pm\, I will give a short speech thanking everyone who has come out to the telescopes in St. Pete and other parts of the Gulf Coast over the past 7 years.\nAfter this journey here in Florida\, I’m driving across the country to present keynote speeches at conferences in Idaho\, touring my sidewalk astronomy around the western US\, and eventually settling in Vancouver\, Washington to fulfill a dream of living in the PNW.
URL:https://pulsestpete.com/event/final-sidewalk-astronomy-night-in-downtown-st-pete/
LOCATION:North Straub Park\, 400 Bayshore Dr NE\, St Petersburg\, FL\, 33701\, United States
ATTACH;FMTTYPE=image/jpeg:https://pulsestpete.com/wp-content/uploads/2025/05/492027803_122151094754492794_8908772074330361117_n.jpg
END:VEVENT
BEGIN:VEVENT
DTSTART;TZID=America/New_York:20250505T113000
DTEND;TZID=America/New_York:20250505T200000
DTSTAMP:20260422T000351
CREATED:20250424T020033Z
LAST-MODIFIED:20250424T020033Z
UID:1919-1746444600-1746475200@pulsestpete.com
SUMMARY:Cindo De Mayo Fiesta at Pepe's Cantina
DESCRIPTION:Our favorite day of the year is almost here! Join us on May 5th for a day full of flavor\, fun\, and good vibes!\n Live DJ from 4 PM – 9 PM Drink specials all day Amor Tequila shots\, Sol & Amigos beer\, margaritas & more!\nTag your amigos and start making plans to enjoy our Cinco de Mayo Party!\n*Our social media photos are meticulously curated for the best presentation. Your meal may vary in appearance*
URL:https://pulsestpete.com/event/cindo-de-mayo-fiesta-at-pepes-cantina/
LOCATION:Pepe’s Cantina\, 3118 3RD AVE N\, St. Petersburg\, FL\, 33713\, United States
ATTACH;FMTTYPE=image/jpeg:https://pulsestpete.com/wp-content/uploads/2025/04/487305211_122120425958744198_3576609687697747460_n.jpg
END:VEVENT
BEGIN:VEVENT
DTSTART;TZID=America/New_York:20250503T160000
DTEND;TZID=America/New_York:20250503T200000
DTSTAMP:20260422T000351
CREATED:20250424T015614Z
LAST-MODIFIED:20250424T015633Z
UID:1916-1746288000-1746302400@pulsestpete.com
SUMMARY:Blue Crab + R&B Festival
DESCRIPTION:Feast on the best seafood in Tampa Bay\, enjoy live performances\, and shop with local vendors.\n Tropicana Field Lot 1 Saturday\, May 3\, 2025 |  4PM – 8PM FREE ENTRY & FREE PARKING!\nBring your lawn chairs\, your crew\, and your appetite—this is one festival you don’t want to miss! Tag who you’re pulling up with!
URL:https://pulsestpete.com/event/blue-crab-rb-festival/
LOCATION:Tropicana Field\, Tropicana Dr\, St Petersburg\, FL\, 33705\, United States
ATTACH;FMTTYPE=image/jpeg:https://pulsestpete.com/wp-content/uploads/2025/04/487803502_1046218880892287_1415188148745281146_n.jpg
END:VEVENT
BEGIN:VEVENT
DTSTART;TZID=America/New_York:20250503T150000
DTEND;TZID=America/New_York:20250503T210000
DTSTAMP:20260422T000351
CREATED:20250323T195123Z
LAST-MODIFIED:20250323T195823Z
UID:1879-1746284400-1746306000@pulsestpete.com
SUMMARY:Derby at The Pier
DESCRIPTION:Derby at The Pier is back! \nPrepare to dress your Derby best and join us for an unforgettable day filled with a fun Derby-themed celebration\, philanthropy\, and community spirit. Let’s #PartyWithAPurpose together in the heart of Tampa Bay!\n Saturday\, May 3rd 3 PM – 9 PM Spa Beach Park at St. Pete Pier\n Grab your tickets today: https://www.eventliveus.com/…/10082/derby-at-the-pier-2025\nAttendees can enjoy casino games\, a best-dressed & best hat contest\, and a live viewing of the 151st Kentucky Derby on the big screen. The celebration will feature signature mint juleps\, craft bourbon cocktails\, and a selection of local food trucks\, creating a vibrant outdoor experience.\nProceeds from the event will support three local nonprofits:\n– Academy Prep Center of St. Petersburg – Expanding educational opportunities for students from underserved communities.– CASA (Community Action Stops Abuse) – Providing critical support and advocacy for survivors of domestic violence.– Children’s Dream Fund – Granting life-changing wishes for children with serious illnesses.\n Interested in sponsoring? Email info@13uglymen.com to get started!
URL:https://pulsestpete.com/event/derby-at-the-pier/
LOCATION:St. Pete Pier\, 600 2nd ave NE\, St Petersburg\, FL\, FL\, United States
ATTACH;FMTTYPE=image/png:https://pulsestpete.com/wp-content/uploads/2025/03/476557212_1041405454681361_5030801249262396931_n.png
END:VEVENT
BEGIN:VEVENT
DTSTART;TZID=America/New_York:20250503T140000
DTEND;TZID=America/New_York:20250503T190000
DTSTAMP:20260422T000351
CREATED:20250424T014326Z
LAST-MODIFIED:20250424T014326Z
UID:1907-1746280800-1746298800@pulsestpete.com
SUMMARY:TACOS & MARGS CRAWL
DESCRIPTION:Cinco de Mayo Weekend: Join the fiesta with hundreds of attendees\, and get all-access to downtown St Pete’s best bars & restaurants!\nGet tickets now for lowest pricing: https://www.barcrawlnation.com/…/st-pete-tacos-margs-crawl\n𝗩𝗜𝗣: Exclusive VIP party 12pm-2pm Margarita tasting to kick things off Free taco(s) at 4 venues 2hr Early Entry (12pm vs 2pm)- Skip the line! Plus everything included in General Admission\n𝗚𝗲𝗻𝗲𝗿𝗮𝗹 𝗔𝗱𝗺𝗶𝘀𝘀𝗶𝗼𝗻: Featuring St. Pete’s most fun bars & restaurants Spin-to-win prizes & “super” specials at every spot! Visit every spot and get a $5\, $10\, or $25 credit! DJs\, live music\, and other surprises Exclusive “a la carte” taco specials Exclusive margarita features at every venue Professional photography and Insta-opportunities\n\n—-\n𝗦𝘁𝗮𝗿𝘁𝗶𝗻𝗴 𝗩𝗲𝗻𝘂𝗲:Where’s Jubes\nThis event is exclusively for those 21+ years of age\, with valid government-issued ID. No exceptions.\n𝗔𝗕𝗢𝗨𝗧 𝗨𝗦:We (Bar Crawl Nation®) started hosting “bar crawl” events in 2015 and now operate in 30+ cities across the United States. We have toured celebrities\, worked with major brands\, and have created nationally recognized concepts like the Tacos & Margs Crawl®.\nWe’ve built the first-of-its-kind “Bar Crawl Nation” app (search for it in the app store). Features include the ability to see venues on a map\, post photos\, and “check in” at every spot & spin-to-win for prizes (like free tacos!).\nJoin tens of thousands of attendees\, on Cinco de Mayo weekend\, in cities across the country\, as we celebrate our love of tacos & margaritas!\nQUESTIONS?Check out the FAQ on BarCrawlNation.com or send us a message!
URL:https://pulsestpete.com/event/tacos-margs-crawl/
LOCATION:Where’s Jubes\, 277 Central Ave\, St Petersburg\, FL\, 33701\, United States
ATTACH;FMTTYPE=image/jpeg:https://pulsestpete.com/wp-content/uploads/2025/04/486611425_1061055072723614_3233802611303017764_n.jpg
END:VEVENT
BEGIN:VEVENT
DTSTART;TZID=America/New_York:20250426T190000
DTEND;TZID=America/New_York:20250426T220000
DTSTAMP:20260422T000351
CREATED:20250323T194156Z
LAST-MODIFIED:20250323T195823Z
UID:1870-1745694000-1745704800@pulsestpete.com
SUMMARY:Los Vinos de Dalí
DESCRIPTION:Join us for the 12th annual Los Vinos de Dalí\, a spectacular evening of art\, flavor and philanthropy.\nStroll through The Dalí while savoring exquisite wines from around the world\, perfectly paired with signature bites from top local restaurants. Immerse yourself in live music and surreal entertainment\, all while enjoying exclusive gallery access with the iconic masterpieces of Salvador Dalí.\nTest your luck at the Vine & Spirits Vault for a chance to win a premium bottle of wine or spirits\, enter the Golden Ticket Raffle for a shot at a dream vacation or bid on extraordinary experiences during the live auction. From crisp whites to bold reds and sparkling bubbles\, every sip supports a meaningful cause.\nHosted by The Guild at The Dalí\, Los Vinos de Dalí is the perfect blend of art\, wine and culinary creations – all in support of The Dalí Museum. Proceeds directly benefit the Museum’s non-profit mission to preserve and share the works of Salvador Dalí while offering cultural experiences that educate\, inspire and enrich our community and beyond.
URL:https://pulsestpete.com/event/los-vinos-de-dali/
LOCATION:The Dalí Museum\, One Dali Blvd\, Saint Petersburg\, FL\, 33701\, United States
ATTACH;FMTTYPE=image/jpeg:https://pulsestpete.com/wp-content/uploads/2025/03/484618526_936783505312692_2771168330003633485_n.jpg
END:VEVENT
BEGIN:VEVENT
DTSTART;TZID=America/New_York:20250426T130000
DTEND;TZID=America/New_York:20250426T143000
DTSTAMP:20260422T000351
CREATED:20250327T231233Z
LAST-MODIFIED:20250327T231233Z
UID:1900-1745672400-1745677800@pulsestpete.com
SUMMARY:WILDFLOWER WALK
DESCRIPTION:Each month\, join our rangers for a guided wildflower walk at Boyd Hill Nature Preserve. Discover which wildflowers are in bloom and learn about their unique traits while you explore the trails of the preserve.\n Saturday\, March 29\, April 26 and May 24 1 – 2:30 PM Boyd Hill Nature Preserve\, 1101 Country Club Way S.\nCost: $5 | For ages 12+Registration required.
URL:https://pulsestpete.com/event/wildflower-walk/
LOCATION:Boyd Hill Nature Preserve\, 1101 Country Club Way S\, St. Petersburg\, FL\, 33705\, United States
ATTACH;FMTTYPE=image/jpeg:https://pulsestpete.com/wp-content/uploads/2025/03/482223360_1055497876614264_2750674253644236569_n.jpg
END:VEVENT
BEGIN:VEVENT
DTSTART;TZID=America/New_York:20250426T110000
DTEND;TZID=America/New_York:20250426T210000
DTSTAMP:20260422T000351
CREATED:20250323T192848Z
LAST-MODIFIED:20250323T195823Z
UID:1858-1745665200-1745701200@pulsestpete.com
SUMMARY:Saint Pete's Super Greek FOOD PopUp!
DESCRIPTION:For the tens of thousands of loyal festival goers and supporters who attend St. Stefanos’ annual 3 day Super Greek Festival every year in early October\, we have a very special invitation!\nCOME JOIN US for fresh\, authentic & homemade Greek foods & desserts from 11 a.m. to 9 p.m. (or until the food and desserts run out) on Saturday\, April 26\, 2025.\nYear after year\, festival goers rave about our authentic\, fresh and exquisite cuisine straight from Greece. Our church parishioners prepare most of our festival’s foods from scratch. For those who have never enjoyed our food\, come taste for yourself what all the hype is about!\nWhen Joining US:\nIMMERSE YOURSELF in the live performance of Greek Band: Dimitri & The Islanders while being entertained by our KEFI Greek Dance Troupes and partake in FREE Greek Dance and Language Lessons!;\nENJOY freshly prepared homemade Greek Street Foods like Fire-Grilled Gyros\, Chicken Souvlaki\, Greek Salads\, and Greek Fries with Oregano & Feta;\nSATIATE your appetite with 100% Authentic Greek Homemade cuisine such as Pastitstio\, Dolmades and Braised Lamb Shank; and\nINDULGE your sweet tooth with our full selection of Greek Pastries & Baked Goods including Baklava\, Koulourakia\, Galaktoboureko\, and more. We are also most proud of our crowd-pleasing delicious Loukomades (Greek Golden Fried Honey Puffs)! While you are here\, enjoy a strong traditional Greek Coffee or Iced Nescafe Frappe from our Greek Café. Make sure to take plenty of sweets back home to share with your family & friends.\nAll profits generated will be used to support many Orthodox Ministries\, local community Non-Profits\, and to help pay for a new roof and other Hurricane Milton related damages suffered by the Church and its parishioners.\nThis is a food focused event! Inside only. Rain or Shine. No Vendors\, Kids Zone\, or Outside Tents.\nCOME HUNGRY. COME EARLY. LEAVE HAPPY!\nParking and Admission are FREE (This Event Only)!
URL:https://pulsestpete.com/event/saint-petes-super-greek-food-popup/
LOCATION:St. Stefanos Greek Orthodox Church\, 3600 76th Street North\, St. Petersburg\, FL\, 33710\, United States
ATTACH;FMTTYPE=image/jpeg:https://pulsestpete.com/wp-content/uploads/2025/03/484211647_1164292962055735_411273571280437638_n.jpg
END:VEVENT
BEGIN:VEVENT
DTSTART;TZID=America/New_York:20250426T090000
DTEND;TZID=America/New_York:20250427T160000
DTSTAMP:20260422T000351
CREATED:20250310T030900Z
LAST-MODIFIED:20250323T195823Z
UID:1848-1745658000-1745769600@pulsestpete.com
SUMMARY:Green Thumb Festival
DESCRIPTION:St. Petersburg’s 39th annual Arbor Day Celebration\, the Green Thumb Festival\, brings together plant and flower lovers\, as well as\, individuals and families looking for a fun weekend activity. With more than 120 garden\, plant and flower vendors and exhibitors\, the annual event brings the community together for a weekend of fun.\n April 26 & 27\, 2025 9 AM – 4 PM Walter Fuller Park\, 7891 26th Ave. N.\nFestival activities include:Ask an ArboristTool SharpeningPlant SaleEnvironmental Resources and Educational ProgramsFree Mulch Delivery Raffle (must be a St. Pete resident)Children’s Crafts & Workshops (Registration is required)*Hands-on Workshops for Adults sponsored by the Pinellas County Farm Bureau and UF/IFAS Extension. Ages 18 & up.* and more!\nTo learn more about the festival\, visit: greenthumbfestival.com*Registration is required for children and adult workshops. ____________________________________________\nTHANK YOU TO OUR SPONSORS:Garden Club of St. PetersburgUF/IFAS ExtensionPinellas County Farm BureauTampa Bay Times
URL:https://pulsestpete.com/event/green-thumb-festival/
LOCATION:Walter Fuller Park\, 2803 80th St N\, St Petersburg\, FL\, 33710\, United States
ATTACH;FMTTYPE=image/jpeg:https://pulsestpete.com/wp-content/uploads/2025/03/481092300_1049023040595081_8636342348020109838_n.jpg
END:VEVENT
BEGIN:VEVENT
DTSTART;TZID=America/New_York:20250425T180000
DTEND;TZID=America/New_York:20250426T235500
DTSTAMP:20260422T000351
CREATED:20250327T230007Z
LAST-MODIFIED:20250327T230007Z
UID:1887-1745604000-1745711700@pulsestpete.com
SUMMARY:Lost in St. Pete
DESCRIPTION:Announcing Year 5 of Lost in St. Pete Presented by Lost Arts Foundation\nApril 25th – 26th\, 2025\nFour Stages | Cage Brewing & Pinellas Ale Works | Two Days\nThe return of Lost in St. Pete will be a FREE community\, music\, and arts festival.\nWe took a year off to form a nonprofit to keep this festival going strong. This year\, we will be scaling back LiSP from previous years to lay a foundation for more sustainable events in the future.\nOur mission has never changed – helping to provide platforms for diverse local subcultures\, artists\, and causes.\nNow more than ever\, it’s important that we come together.\n\n\nHEADLINERS: ZETA\, CARDIEL\, ONLYONETWO\, BIG DEUSA\nLOCAL & REGIONAL: ABR\, American Hollow\, bloody knucklehedz\, Caught Fire\, Charli Funk\, Code FNX\,Cozy In The Black\, Dagger\, DeezyWeeTheReaper\, Dia Blue & The Experience\, Down From Jersey\, Elikenagi\, goodview\, Headless State\, Hijas de la Muerte\, HUMAN ERROR\, Humankinda\, Jean~Baptiste \, Johnny Champagne\, Kayliøn\, Liquid Pennies\, LJesus\, Loach\, M.A.C.E.\, Mixed Miyagi\, Movie Props\, Nico Sweet\, NO PLEA\, -PharaohUnchained\, Ramtha\, Razor & The Boogiemen\, REEVES\, Scissor Blade\, SCUMBAGWRLD\, Second Impact\, Shiv\, Sintell Terry\, Slap of Reality\, Sounds Annon\, Sydlive\, Tyrell Golden\, Vern Senior\, Walled City\, Wolfgang Amadeus\, YZM \, Zhudaru\nSponsor announcements\, festival schedule\, visual artists\, community groups\, and full flier coming VERY soon!
URL:https://pulsestpete.com/event/lost-in-st-pete/
LOCATION:Lost Arts Foundation\, St Petersburg\, FL\, United States
ATTACH;FMTTYPE=image/jpeg:https://pulsestpete.com/wp-content/uploads/2025/03/485140538_122118828386748100_2639817465319088806_n.jpg
END:VEVENT
BEGIN:VEVENT
DTSTART;TZID=America/New_York:20250422T100000
DTEND;TZID=America/New_York:20250422T163000
DTSTAMP:20260422T000351
CREATED:20250323T195736Z
LAST-MODIFIED:20250323T195823Z
UID:1883-1745316000-1745339400@pulsestpete.com
SUMMARY:Earth Day Scavenger Hunt
DESCRIPTION:Why do leafcutter bees cut leaves? What power can our Growing Stone give you? Find out by exploring Sunken Gardens’ winding paths\, turtles\, butterflies\, and flowers on a self-guided scavenger hunt at your leisure.\nYou may just win some Florida wildflower seeds and other prizes to celebrate Earth Day all year long.\nScavenger hunt is free with Gardens admission or membership. No pre-registration required. Available all day during normal operating hours.
URL:https://pulsestpete.com/event/earth-day-scavenger-hunt/
LOCATION:Sunken Gardens\, 1825 4th St. N\, Saint Petersburg\, 33704\, United States
ATTACH;FMTTYPE=image/jpeg:https://pulsestpete.com/wp-content/uploads/2025/03/481174920_1058027296357030_80951737832082419_n-2.jpg
END:VEVENT
END:VCALENDAR