BEGIN:VCALENDAR
VERSION:2.0
PRODID:-//Pulse St. Pete Magazine - ECPv6.15.20//NONSGML v1.0//EN
CALSCALE:GREGORIAN
METHOD:PUBLISH
X-ORIGINAL-URL:https://pulsestpete.com
X-WR-CALDESC:Events for Pulse St. Pete Magazine
REFRESH-INTERVAL;VALUE=DURATION:PT1H
X-Robots-Tag:noindex
X-PUBLISHED-TTL:PT1H
BEGIN:VTIMEZONE
TZID:America/New_York
BEGIN:DAYLIGHT
TZOFFSETFROM:-0500
TZOFFSETTO:-0400
TZNAME:EDT
DTSTART:20250309T070000
END:DAYLIGHT
BEGIN:STANDARD
TZOFFSETFROM:-0400
TZOFFSETTO:-0500
TZNAME:EST
DTSTART:20251102T060000
END:STANDARD
BEGIN:DAYLIGHT
TZOFFSETFROM:-0500
TZOFFSETTO:-0400
TZNAME:EDT
DTSTART:20260308T070000
END:DAYLIGHT
BEGIN:STANDARD
TZOFFSETFROM:-0400
TZOFFSETTO:-0500
TZNAME:EST
DTSTART:20261101T060000
END:STANDARD
BEGIN:DAYLIGHT
TZOFFSETFROM:-0500
TZOFFSETTO:-0400
TZNAME:EDT
DTSTART:20270314T070000
END:DAYLIGHT
BEGIN:STANDARD
TZOFFSETFROM:-0400
TZOFFSETTO:-0500
TZNAME:EST
DTSTART:20271107T060000
END:STANDARD
END:VTIMEZONE
BEGIN:VEVENT
DTSTART;TZID=America/New_York:20260322T130000
DTEND;TZID=America/New_York:20260322T200000
DTSTAMP:20260425T162910
CREATED:20260308T192315Z
LAST-MODIFIED:20260308T192315Z
UID:4078-1774184400-1774209600@pulsestpete.com
SUMMARY:Big Boil
DESCRIPTION:MARK YOUR CALENDARS BIG NEWS! \nWe’re launching our FIRST Annual Big Boil at My Bar Sports Bar & Grill and you’re ALL invited!\n March 22\, 2026 — it’s going DOWN!Join us from 1 PM to 8 PM for a massive Crawfish Boil loaded with shrimp\, potatoes\, corn\, and sausage!PLUS\, enjoy fresh oysters on the half shell all day long. \n We’ll have local vendors\, local music\, and great vibes rolling nonstop from start to finish.And to close it out with a bang… The Fulcos will be our grand finale band!\n Cool off inside!We’ll have our full liquor bar and full restaurant open so you can recharge with AC\, cold beverages\, and great food.AND for the day we’re rolling out a fully loaded Bloody Mary Bar packed with all the good stuff to go perfectly with the boil! \nThis will be an indoor & outdoor event\, stacked with flavor\, fun\, and a whole lot of shuckin’ and suckin’! \nYou do NOT want to miss our newest annual tradition it’s going to be AMAZING. Save the date now: Sunday\, March 22nd\, 2026!\nLet’s kick off this festival the right way!
URL:https://pulsestpete.com/event/big-boil/
LOCATION:My Bar Sports Bar and Grill\, 400 49th St. S\, Saint Petersburg\, FL\, 33707\, United States
ATTACH;FMTTYPE=image/jpeg:https://pulsestpete.com/wp-content/uploads/2026/03/582554050_1468399561456432_5144806927584638747_n.jpg
END:VEVENT
BEGIN:VEVENT
DTSTART;TZID=America/New_York:20260322T153000
DTEND;TZID=America/New_York:20260322T180000
DTSTAMP:20260425T162910
CREATED:20260223T015727Z
LAST-MODIFIED:20260223T015727Z
UID:3371-1774193400-1774202400@pulsestpete.com
SUMMARY:BE Building Centennial Celebration
DESCRIPTION:It’s an ice house! Born in 1926\, before widespread commercial refrigeration\, our beloved building cranked out ice for fish storage and transport. If these walls could talk\, we think they’d say they love being a yoga studio. Come celebrate a century of history\, honor these old bones\, and help us infuse the space with love for the next hundred years. There will be food\, music\, crafts\, and a raffle!
URL:https://pulsestpete.com/event/be-building-centennial-celebration/
LOCATION:The Body Electric Yoga Company\, 3015 7th St N\, St Petersburg\, FL\, 33704\, United States
ATTACH;FMTTYPE=image/jpeg:https://pulsestpete.com/wp-content/uploads/2026/02/635161928_1323652576463389_8540601597575031156_n.jpg
END:VEVENT
END:VCALENDAR