BEGIN:VCALENDAR
VERSION:2.0
PRODID:-//Pulse St. Pete Magazine - ECPv6.15.20//NONSGML v1.0//EN
CALSCALE:GREGORIAN
METHOD:PUBLISH
X-WR-CALNAME:Pulse St. Pete Magazine
X-ORIGINAL-URL:https://pulsestpete.com
X-WR-CALDESC:Events for Pulse St. Pete Magazine
REFRESH-INTERVAL;VALUE=DURATION:PT1H
X-Robots-Tag:noindex
X-PUBLISHED-TTL:PT1H
BEGIN:VTIMEZONE
TZID:America/New_York
BEGIN:DAYLIGHT
TZOFFSETFROM:-0500
TZOFFSETTO:-0400
TZNAME:EDT
DTSTART:20250309T070000
END:DAYLIGHT
BEGIN:STANDARD
TZOFFSETFROM:-0400
TZOFFSETTO:-0500
TZNAME:EST
DTSTART:20251102T060000
END:STANDARD
BEGIN:DAYLIGHT
TZOFFSETFROM:-0500
TZOFFSETTO:-0400
TZNAME:EDT
DTSTART:20260308T070000
END:DAYLIGHT
BEGIN:STANDARD
TZOFFSETFROM:-0400
TZOFFSETTO:-0500
TZNAME:EST
DTSTART:20261101T060000
END:STANDARD
BEGIN:DAYLIGHT
TZOFFSETFROM:-0500
TZOFFSETTO:-0400
TZNAME:EDT
DTSTART:20270314T070000
END:DAYLIGHT
BEGIN:STANDARD
TZOFFSETFROM:-0400
TZOFFSETTO:-0500
TZNAME:EST
DTSTART:20271107T060000
END:STANDARD
END:VTIMEZONE
BEGIN:VEVENT
DTSTART;TZID=America/New_York:20260321T080000
DTEND;TZID=America/New_York:20260321T150000
DTSTAMP:20260425T174736
CREATED:20260221T231027Z
LAST-MODIFIED:20260221T231027Z
UID:3316-1774080000-1774105200@pulsestpete.com
SUMMARY:Artsy Rummage Sale
DESCRIPTION:Need more arts and crafts? The Gulf Coast Artists’ Alliance is holding its annual sale of gently used supplies\, such as paint\, colored pencils\, canvases\, beads\, shells\, wood cutouts\, fabric\, etc. There will also be art\, prints\, frames\, mats\, books\, equipment\, jewelry\, and displays\, just to name a few.\nIf you have a stash of art-related items that you no longer use or need\, you can donate them. Drop off items at GCAA ArtWorks by March 19 during open hours: Thursday – Saturday\, 11 am to 5 pm. Buying and donating is a great way to support local art\, and GCAA is a non-profit charitable organization.\nThe Artsy Rummage Sale is Saturday\, March 21 from 8 am to 3 pm at the GCAA ArtWorks\, 5546 First Avenue\, N\, St. Petersburg\, Fl 33710.
URL:https://pulsestpete.com/event/artsy-rummage-sale-2/
LOCATION:GCAA ArtWorks\, 5546 1st Ave. N\, St. Petersburg\, FL\, 33710\, United States
ATTACH;FMTTYPE=image/jpeg:https://pulsestpete.com/wp-content/uploads/2026/02/ArtsyRummageSale_sq.jpg
END:VEVENT
BEGIN:VEVENT
DTSTART;TZID=America/New_York:20260321T090000
DTEND;TZID=America/New_York:20260321T120000
DTSTAMP:20260425T174736
CREATED:20260308T190542Z
LAST-MODIFIED:20260308T190542Z
UID:4067-1774083600-1774094400@pulsestpete.com
SUMMARY:Spring Craft & Art Fair
DESCRIPTION:Spring Craft & Art Fair at the Gulfport Senior Center \nCelebrate the season and support local creativity at the Gulfport Senior Center’s Spring Craft & Art Fair! Join us on Saturday\, March 21 from 9:00 AM – 12:00 PM for a morning filled with beautiful\, hand-crafted items created by our talented Senior Center participants.\nBrowse a variety of handmade crafts\, unique artwork\, seasonal décor\, and one-of-a-kind gifts—perfect for brightening your home or finding something special for someone you love. Don’t forget … Easter\, Mother’s Day\, Father’s Day\, and Independence Day are all coming soon.\nINTERESTED IN BEING A VENDOR? Registered Senior Center members who create handmade crafts or art are invited to reserve a table and show off their talents! Contact (727) 893-5657 FMI and to register.\nBring a friend and come celebrate the creativity of the Gulfport Senior Center community!
URL:https://pulsestpete.com/event/spring-craft-art-fair/
LOCATION:Gulfport Multipurpose Senior Center\, 5501 27th Ave. S\, Gulfport\, FL\, 33707\, United States
ATTACH;FMTTYPE=image/jpeg:https://pulsestpete.com/wp-content/uploads/2026/03/648485866_915220497873825_7126726638043610506_n.jpg
END:VEVENT
BEGIN:VEVENT
DTSTART;TZID=America/New_York:20260321T190000
DTEND;TZID=America/New_York:20260321T220000
DTSTAMP:20260425T174736
CREATED:20260302T134158Z
LAST-MODIFIED:20260302T134158Z
UID:3776-1774119600-1774130400@pulsestpete.com
SUMMARY:ScI-FI WEEK
DESCRIPTION:Imagine Museum and Multiverseland Theme Park are collaborating on “SCI-FI WEEK” to celebrate the opening of Imagine Museum’s new “Sci-Fi Exhibit”. This installation features stunning art-glass depictions of UFO flying saucers and rocket ships\, full-size alien figures\, beautiful large alien portraits and a wall of 1000 alien heads! The GoodVibes Aliens from Multiverseland will be performing concerts of “Music from the Multiverse” on Thursday\, March 19 at 6pm and Saturday\, March 21 at 2 pm at the Museums’ “Wall of 1000 Aliens”. Multiverseland Theme Park is having a “Grand Re-Opening” for the Spring season Sci-Fi Week on March 21\, featuring a 2-hour tour of 10 immersive\, interactive “alternate worlds” where The GoodVibes Aliens bring inspiring “Messages from the Multiverse”. Visitors to Multiverseland will receive BOGO coupons for the Imagine Museum. Visitors say that Multiverseland is an “awesome experience” where you are “swept into a captivating atmosphere that feels like you are floating between dimensions”. A visit to Multiverseland is “not only wonderful\, but the jolt of positivity\, creativity and glorious imagination that our souls needed. Dr. GoodVibes message is beautiful!” It’s “free\, cosmic and fun for all”!
URL:https://pulsestpete.com/event/sci-fi-week/
LOCATION:MULTIVERSELAND\, 1055 27th St N\, Saint Petersburg\, FL\, 33713\, United States
ATTACH;FMTTYPE=image/jpeg:https://pulsestpete.com/wp-content/uploads/2026/03/643782502_122216914898302884_4284628644780124332_n.jpg
END:VEVENT
END:VCALENDAR