BEGIN:VCALENDAR
VERSION:2.0
PRODID:-//Pulse St. Pete Magazine - ECPv6.15.20//NONSGML v1.0//EN
CALSCALE:GREGORIAN
METHOD:PUBLISH
X-WR-CALNAME:Pulse St. Pete Magazine
X-ORIGINAL-URL:https://pulsestpete.com
X-WR-CALDESC:Events for Pulse St. Pete Magazine
REFRESH-INTERVAL;VALUE=DURATION:PT1H
X-Robots-Tag:noindex
X-PUBLISHED-TTL:PT1H
BEGIN:VTIMEZONE
TZID:America/New_York
BEGIN:DAYLIGHT
TZOFFSETFROM:-0500
TZOFFSETTO:-0400
TZNAME:EDT
DTSTART:20250309T070000
END:DAYLIGHT
BEGIN:STANDARD
TZOFFSETFROM:-0400
TZOFFSETTO:-0500
TZNAME:EST
DTSTART:20251102T060000
END:STANDARD
BEGIN:DAYLIGHT
TZOFFSETFROM:-0500
TZOFFSETTO:-0400
TZNAME:EDT
DTSTART:20260308T070000
END:DAYLIGHT
BEGIN:STANDARD
TZOFFSETFROM:-0400
TZOFFSETTO:-0500
TZNAME:EST
DTSTART:20261101T060000
END:STANDARD
BEGIN:DAYLIGHT
TZOFFSETFROM:-0500
TZOFFSETTO:-0400
TZNAME:EDT
DTSTART:20270314T070000
END:DAYLIGHT
BEGIN:STANDARD
TZOFFSETFROM:-0400
TZOFFSETTO:-0500
TZNAME:EST
DTSTART:20271107T060000
END:STANDARD
END:VTIMEZONE
BEGIN:VEVENT
DTSTART;TZID=America/New_York:20260319T090000
DTEND;TZID=America/New_York:20260319T154500
DTSTAMP:20260425T201859
CREATED:20260223T024511Z
LAST-MODIFIED:20260308T191656Z
UID:3393-1773910800-1773935100@pulsestpete.com
SUMMARY:Spring Break Teen Workshop | Art and Archaeology
DESCRIPTION:The Museum of Fine Arts St. Petersburg is hosting its first-ever week of Spring Break Teen Workshops! Students from ages 13-17 are invited to join us for immersive days of learning\, creativity\, and hands-on artmaking. Teens can register for a single day or mix and match sessions throughout the week. Purchase the full-week package for a discount: https://mfastpete.org/programs/spring-break-teen-workshops/\nTravel back in time as we learn about the art and science of archaeology. Discover how archaeologists use artworks to piece together the past as you explore the MFA collection. Teens will spend the day exploring the Ancient Roman and Greek galleries with an MFA Docent and make their own mosaics\, clay pieces\, and more. Bonus! All participants will leave with their own clay kit provided by our friends at Clay Co-Op\, who will join us during this workshop.\n\n\nSpring Break Teen Workshop | Art and ArchaeologyThursday\, March 19\, 20269:00 AM–3:45 PM\nMuseum of Fine Arts\, St. Petersburg255 Beach Drive NE\, St. Petersburg FL 33701\nMembers – $50\, Not-Yet Members – $60
URL:https://pulsestpete.com/event/spring-break-teen-workshop-art-and-archaeology/
LOCATION:Museum of Fine Arts St. Petersburg\, 255 Beach Drive NE\, St. Petersburg\, 33701\, United States
ATTACH;FMTTYPE=image/jpeg:https://pulsestpete.com/wp-content/uploads/2026/02/teen-bun_4.jpg
END:VEVENT
END:VCALENDAR